BEGIN:VCALENDAR
VERSION:2.0
PRODID:-//Know Direction - ECPv4.5.10//NONSGML v1.0//EN
CALSCALE:GREGORIAN
METHOD:PUBLISH
X-WR-CALNAME:Know Direction
X-ORIGINAL-URL:https://knowdirectionpodcast.com
X-WR-CALDESC:Events for Know Direction
BEGIN:VEVENT
DTSTART;TZID=America/New_York:20201125T210000
DTEND;TZID=America/New_York:20201125T220000
DTSTAMP:20260419T211835
CREATED:20201123T150944Z
LAST-MODIFIED:20201123T150944Z
UID:19490-1606338000-1606341600@knowdirectionpodcast.com
SUMMARY:Know Direction Beyond Live: Precog Premonitions with Thursty
DESCRIPTION:The precog class playtest document is here. To help see what the future of this class holds\, Alex\, James\, and Vanessa are joined by Paizo’s Starfinder Society Developer Thurston Hillman. \n
URL:https://knowdirectionpodcast.com/event/know-direction-beyond-live-precog-premonitions-with-thursty/
CATEGORIES:Know Direction Beyond Live Event
ATTACH;FMTTYPE=image/jpeg:https://knowdirectionpodcast.com/wp-content/uploads/2020/11/KDB052_Precog_Playtest_with_Thurston_Hillman-01.jpg
END:VEVENT
END:VCALENDAR