BEGIN:VCALENDAR
VERSION:2.0
PRODID:-//Know Direction - ECPv4.5.10//NONSGML v1.0//EN
CALSCALE:GREGORIAN
METHOD:PUBLISH
X-WR-CALNAME:Know Direction
X-ORIGINAL-URL:https://knowdirectionpodcast.com
X-WR-CALDESC:Events for Know Direction
BEGIN:VEVENT
DTSTART;TZID=America/New_York:20240828T210000
DTEND;TZID=America/New_York:20240828T230000
DTSTAMP:20260419T145813
CREATED:20240828T132548Z
LAST-MODIFIED:20240828T132548Z
UID:28208-1724878800-1724886000@knowdirectionpodcast.com
SUMMARY:Know Direction Beyond 88 Live: Starfinder 2e First Impressions
DESCRIPTION:Now that Alex and James have experienced Starfinder 2e\, they shoot from the hit with their gut reactions. \nNo\, that is not a mixed metaphor. Surely in Starfinder you can build some kind of hip-mounted stomach acid shooter… \nJoin them live on the Know Direction Twitch channel to find out! \n
URL:https://knowdirectionpodcast.com/event/know-direction-beyond-88-live-starfinder-2e-first-impressions/
CATEGORIES:Know Direction Beyond Live Event
ATTACH;FMTTYPE=image/png:https://knowdirectionpodcast.com/wp-content/uploads/2024/08/KDB088_2E_Impressions_TWITCH.png
END:VEVENT
END:VCALENDAR