BEGIN:VCALENDAR
VERSION:2.0
PRODID:-//Know Direction - ECPv4.5.10//NONSGML v1.0//EN
CALSCALE:GREGORIAN
METHOD:PUBLISH
X-WR-CALNAME:Know Direction
X-ORIGINAL-URL:https://knowdirectionpodcast.com
X-WR-CALDESC:Events for Know Direction
BEGIN:VEVENT
DTSTART;TZID=America/New_York:20240731T210000
DTEND;TZID=America/New_York:20240731T220000
DTSTAMP:20260419T132625
CREATED:20240725T124926Z
LAST-MODIFIED:20240725T173133Z
UID:28105-1722459600-1722463200@knowdirectionpodcast.com
SUMMARY:Know Direction Beyond 87 Live: 1e Spicy Sendoff
DESCRIPTION:The day before the Gen Con 2024 debut of the Starfinder 2e playtest rulebook\, James and Alex give Starfinder 1e a six spicy wing sendoff. \nYou’re not going to want to miss this one\, folks! \n
URL:https://knowdirectionpodcast.com/event/know-direction-beyond-87-live-1e-spicy-sendoff/
CATEGORIES:Know Direction Beyond Live Event
ATTACH;FMTTYPE=image/png:https://knowdirectionpodcast.com/wp-content/uploads/2024/07/KDB087_Ode_to_1E.png
END:VEVENT
END:VCALENDAR