BEGIN:VCALENDAR
VERSION:2.0
PRODID:-//Know Direction - ECPv4.5.10//NONSGML v1.0//EN
CALSCALE:GREGORIAN
METHOD:PUBLISH
X-WR-CALNAME:Know Direction
X-ORIGINAL-URL:https://knowdirectionpodcast.com
X-WR-CALDESC:Events for Know Direction
BEGIN:VEVENT
DTSTART;TZID=America/New_York:20220608T210000
DTEND;TZID=America/New_York:20220608T230000
DTSTAMP:20260421T155706
CREATED:20220608T124326Z
LAST-MODIFIED:20220608T124326Z
UID:24189-1654722000-1654729200@knowdirectionpodcast.com
SUMMARY:Know Direction: Beyond 70 Live - PaizoCon 2022 Starfinder News
DESCRIPTION:Alex\, James\, and Dustin go over the mindblowing Starfinder news revealed at last weekend’s PaizoCon 2022. \n
URL:https://knowdirectionpodcast.com/event/know-direction-beyond-70-live-paizocon-2022-starfinder-news/
CATEGORIES:Know Direction Beyond Live Event
ATTACH;FMTTYPE=image/jpeg:https://knowdirectionpodcast.com/wp-content/uploads/2022/06/KDB070.jpg
END:VEVENT
END:VCALENDAR