BEGIN:VCALENDAR
VERSION:2.0
PRODID:-//Know Direction - ECPv4.5.10//NONSGML v1.0//EN
CALSCALE:GREGORIAN
METHOD:PUBLISH
X-WR-CALNAME:Know Direction
X-ORIGINAL-URL:https://knowdirectionpodcast.com
X-WR-CALDESC:Events for Know Direction
BEGIN:VEVENT
DTSTART;TZID=America/New_York:20171017T193000
DTEND;TZID=America/New_York:20171017T210000
DTSTAMP:20260421T101416
CREATED:20171016T141946Z
LAST-MODIFIED:20171016T142029Z
UID:8063-1508268600-1508274000@knowdirectionpodcast.com
SUMMARY:Know Direction: Beyond 003 - Alien Archive Review
DESCRIPTION:A billion arms\, dozens of eyes\, and oh so cute. The Alien Archive completes the foundational rules of Starfinder. Hear our thoughts on how this book defines the game. \n7:30 pm EST Oct. 17th\, on Twitch.tv/Knowdirection \n
URL:https://knowdirectionpodcast.com/event/know-direction-beyond-003-alien-archive-review/
CATEGORIES:Know Direction Beyond Live Event
ATTACH;FMTTYPE=image/png:https://knowdirectionpodcast.com/wp-content/uploads/2017/10/KDB_20171017_Alien_Archive_Review.png
END:VEVENT
END:VCALENDAR