BEGIN:VCALENDAR
VERSION:2.0
PRODID:-//Know Direction - ECPv4.5.10//NONSGML v1.0//EN
CALSCALE:GREGORIAN
METHOD:PUBLISH
X-WR-CALNAME:Know Direction
X-ORIGINAL-URL:https://knowdirectionpodcast.com
X-WR-CALDESC:Events for Know Direction
BEGIN:VEVENT
DTSTART;TZID=America/New_York:20191113T210000
DTEND;TZID=America/New_York:20191113T230000
DTSTAMP:20260419T135353
CREATED:20191112T151530Z
LAST-MODIFIED:20191112T190643Z
UID:15091-1573678800-1573686000@knowdirectionpodcast.com
SUMMARY:Know Direction 212 live! APG Playtest with Lyz Liddell
DESCRIPTION:The newest member of the Pathfinder design team\, Lyz Liddell\, joins Ryan and guest co-host Vanessa Hoskins to go over the new Advanced Player’s Guide classes for the ongoing APG playtest in the latest Know Direction! \n
URL:https://knowdirectionpodcast.com/event/know-direction-212-live-apg-playtest-with-lyz-lidell/
CATEGORIES:Know Direction Live Event
ATTACH;FMTTYPE=image/jpeg:https://knowdirectionpodcast.com/wp-content/uploads/2019/11/KD212-1.jpg
END:VEVENT
END:VCALENDAR