BEGIN:VCALENDAR
VERSION:2.0
PRODID:-//Know Direction - ECPv4.5.10//NONSGML v1.0//EN
CALSCALE:GREGORIAN
METHOD:PUBLISH
X-WR-CALNAME:Know Direction
X-ORIGINAL-URL:https://knowdirectionpodcast.com
X-WR-CALDESC:Events for Know Direction
BEGIN:VEVENT
DTSTART;TZID=America/New_York:20191030T210000
DTEND;TZID=America/New_York:20191030T230000
DTSTAMP:20260419T135727
CREATED:20191028T182353Z
LAST-MODIFIED:20191028T182353Z
UID:14952-1572469200-1572476400@knowdirectionpodcast.com
SUMMARY:Know Direction 211 live! Creating Monsters with Patrick Renie
DESCRIPTION:Join us Halloween Eve for a monster bash\, talking monster (and NPC) making with Pathfinder developper Patrick Renee. Then\, in our second segment\, Ryan and Perram use the new monster design rules to bring some Halloween horrors to life! \n
URL:https://knowdirectionpodcast.com/event/know-direction-211-live-creating-monsters-with-patrick-renie/
CATEGORIES:Know Direction Live Event
ATTACH;FMTTYPE=image/jpeg:https://knowdirectionpodcast.com/wp-content/uploads/2019/10/patrickrenie.jpg
END:VEVENT
END:VCALENDAR