BEGIN:VCALENDAR
VERSION:2.0
PRODID:-//Know Direction - ECPv4.5.10//NONSGML v1.0//EN
CALSCALE:GREGORIAN
METHOD:PUBLISH
X-WR-CALNAME:Know Direction
X-ORIGINAL-URL:https://knowdirectionpodcast.com
X-WR-CALDESC:Events for Know Direction
BEGIN:VEVENT
DTSTART;TZID=America/New_York:20190619T210000
DTEND;TZID=America/New_York:20190619T230000
DTSTAMP:20260422T224251
CREATED:20190618T205454Z
LAST-MODIFIED:20190619T145353Z
UID:13312-1560978000-1560985200@knowdirectionpodcast.com
SUMMARY:Know Direction 201 Live! - The Road to Pathfinder Second Edition
DESCRIPTION:Paizo’s Logan Bonner & Jason Bulmahn join us tonight to talk about how Pathfinder Second Edition gives you deep character customization while being easy to learn and fast to play with real examples. \nPerram and Ryan have a ton of questions\, and we’re sure you will too! \nWatch us live on Twitch! \n
URL:https://knowdirectionpodcast.com/event/know-direction-201/
CATEGORIES:Know Direction Live Event
ATTACH;FMTTYPE=image/jpeg:https://knowdirectionpodcast.com/wp-content/uploads/2019/06/KD201-Road-to-2e.jpg
END:VEVENT
END:VCALENDAR