BEGIN:VCALENDAR
VERSION:2.0
PRODID:-//Know Direction - ECPv4.5.10//NONSGML v1.0//EN
CALSCALE:GREGORIAN
METHOD:PUBLISH
X-WR-CALNAME:Know Direction
X-ORIGINAL-URL:https://knowdirectionpodcast.com
X-WR-CALDESC:Events for Know Direction
BEGIN:VEVENT
DTSTART;TZID=America/New_York:20180214T203000
DTEND;TZID=America/New_York:20180214T230000
DTSTAMP:20260420T180502
CREATED:20180213T155656Z
LAST-MODIFIED:20180213T155656Z
UID:8925-1518640200-1518649200@knowdirectionpodcast.com
SUMMARY:Know Direction 172 Live! with Crystal Frasier!
DESCRIPTION:Crystal Frasier\, the developer of the latest Adventure Path\, War for the Crown\, and author of the next Pathfinder comic miniseries\, Spiral Of Bones\, joins us to talk about the many projects she’s handling and answer all your questions! \n
URL:https://knowdirectionpodcast.com/event/know-direction-172-live-with-crystal-frasier/
CATEGORIES:Know Direction Live Event
ATTACH;FMTTYPE=image/jpeg:https://knowdirectionpodcast.com/wp-content/uploads/2014/05/KD_Banner1.jpg
END:VEVENT
END:VCALENDAR