BEGIN:VCALENDAR
VERSION:2.0
PRODID:-//Know Direction - ECPv4.5.10//NONSGML v1.0//EN
CALSCALE:GREGORIAN
METHOD:PUBLISH
X-WR-CALNAME:Know Direction
X-ORIGINAL-URL:https://knowdirectionpodcast.com
X-WR-CALDESC:Events for Know Direction
BEGIN:VEVENT
DTSTART;TZID=America/New_York:20170614T203000
DTEND;TZID=America/New_York:20170614T230000
DTSTAMP:20260422T080018
CREATED:20170612T200629Z
LAST-MODIFIED:20170613T173302Z
UID:7026-1497472200-1497481200@knowdirectionpodcast.com
SUMMARY:Know Direction 159 Live! - Starfinder Miniatures with Ninja Division
DESCRIPTION:Kai Nesbit of Ninja Division joins us to talk about the upcoming Starfinder miniatures. \n
URL:https://knowdirectionpodcast.com/event/know-direction-159-live-tba/
CATEGORIES:Know Direction Live Event
ATTACH;FMTTYPE=image/jpeg:https://knowdirectionpodcast.com/wp-content/uploads/2014/05/KD_Banner1.jpg
END:VEVENT
END:VCALENDAR