BEGIN:VCALENDAR
VERSION:2.0
PRODID:-//Know Direction - ECPv4.5.10//NONSGML v1.0//EN
CALSCALE:GREGORIAN
METHOD:PUBLISH
X-WR-CALNAME:Know Direction
X-ORIGINAL-URL:https://knowdirectionpodcast.com
X-WR-CALDESC:Events for Know Direction
BEGIN:VEVENT
DTSTART;TZID=America/New_York:20170104T203000
DTEND;TZID=America/New_York:20170104T203000
DTSTAMP:20260420T181137
CREATED:20170102T201408Z
LAST-MODIFIED:20170102T212535Z
UID:5944-1483561800-1483561800@knowdirectionpodcast.com
SUMMARY:Know Direction 148 - Video Game Inspirations
DESCRIPTION:There’s a lot we can learn as tabletop RPG gamers from video games. Ryan and Perram (and potentially a special guest) talk about the video games that have inspire how they play characters\, create worlds\, and run games. \n
URL:https://knowdirectionpodcast.com/event/know-direction-148-video-game-inspirations/
CATEGORIES:Know Direction Live Event
ATTACH;FMTTYPE=image/jpeg:https://knowdirectionpodcast.com/wp-content/uploads/2017/01/148-Video-Game-Inspiration.jpg
END:VEVENT
END:VCALENDAR