BEGIN:VCALENDAR
VERSION:2.0
PRODID:-//Know Direction - ECPv4.5.10//NONSGML v1.0//EN
CALSCALE:GREGORIAN
METHOD:PUBLISH
X-WR-CALNAME:Know Direction
X-ORIGINAL-URL:https://knowdirectionpodcast.com
X-WR-CALDESC:Events for Know Direction
BEGIN:VEVENT
DTSTART;TZID=America/New_York:20160309T203000
DTEND;TZID=America/New_York:20160309T230000
DTSTAMP:20260420T095933
CREATED:20160229T161612Z
LAST-MODIFIED:20160308T140215Z
UID:3867-1457555400-1457564400@knowdirectionpodcast.com
SUMMARY:Know Direction 127 Live - What's Up With The Pathfinder Campaign Setting (featuring Amanda Hamon Kunz
DESCRIPTION:Pathfinder Developer Amanda Hamon Kunz\, from Paizo\, joins us to tell us about her path to Pathfinder\, and let us know what’s happening with the Pathfinder Campaign Setting. \n
URL:https://knowdirectionpodcast.com/event/know-direction-126-live/
END:VEVENT
END:VCALENDAR