BEGIN:VCALENDAR
VERSION:2.0
PRODID:-//Know Direction - ECPv4.5.10//NONSGML v1.0//EN
CALSCALE:GREGORIAN
METHOD:PUBLISH
X-WR-CALNAME:Know Direction
X-ORIGINAL-URL:https://knowdirectionpodcast.com
X-WR-CALDESC:Events for Know Direction
BEGIN:VEVENT
DTSTART;TZID=America/New_York:20241030T210000
DTEND;TZID=America/New_York:20241030T210000
DTSTAMP:20260419T131818
CREATED:20241018T121531Z
LAST-MODIFIED:20241018T121724Z
UID:28330-1730322000-1730322000@knowdirectionpodcast.com
SUMMARY:Know Direction Beyond Live: One-Shot At Shelly's
DESCRIPTION:Join Alex as he runs James and a party of Know Direction Network veterans through one night of Starfinder 2e terror live on Twitch the night before Halloween! \n
URL:https://knowdirectionpodcast.com/event/28330/
CATEGORIES:Know Direction Beyond Live Event
ATTACH;FMTTYPE=image/png:https://knowdirectionpodcast.com/wp-content/uploads/2024/10/Shellys.png
END:VEVENT
END:VCALENDAR